BEGIN:VCALENDAR
VERSION:2.0
PRODID:-//Hackettstown BID - ECPv6.15.20//NONSGML v1.0//EN
CALSCALE:GREGORIAN
METHOD:PUBLISH
X-ORIGINAL-URL:https://hackettstownbid.com
X-WR-CALDESC:Events for Hackettstown BID
REFRESH-INTERVAL;VALUE=DURATION:PT1H
X-Robots-Tag:noindex
X-PUBLISHED-TTL:PT1H
BEGIN:VTIMEZONE
TZID:America/New_York
BEGIN:DAYLIGHT
TZOFFSETFROM:-0500
TZOFFSETTO:-0400
TZNAME:EDT
DTSTART:20250309T070000
END:DAYLIGHT
BEGIN:STANDARD
TZOFFSETFROM:-0400
TZOFFSETTO:-0500
TZNAME:EST
DTSTART:20251102T060000
END:STANDARD
BEGIN:DAYLIGHT
TZOFFSETFROM:-0500
TZOFFSETTO:-0400
TZNAME:EDT
DTSTART:20260308T070000
END:DAYLIGHT
BEGIN:STANDARD
TZOFFSETFROM:-0400
TZOFFSETTO:-0500
TZNAME:EST
DTSTART:20261101T060000
END:STANDARD
BEGIN:DAYLIGHT
TZOFFSETFROM:-0500
TZOFFSETTO:-0400
TZNAME:EDT
DTSTART:20270314T070000
END:DAYLIGHT
BEGIN:STANDARD
TZOFFSETFROM:-0400
TZOFFSETTO:-0500
TZNAME:EST
DTSTART:20271107T060000
END:STANDARD
END:VTIMEZONE
BEGIN:VEVENT
DTSTART;TZID=America/New_York:20260317T160000
DTEND;TZID=America/New_York:20260317T200000
DTSTAMP:20260420T074602
CREATED:20260202T182328Z
LAST-MODIFIED:20260202T182709Z
UID:3443-1773763200-1773777600@hackettstownbid.com
SUMMARY:Knights of Columbus St. Patrick's Dinner
DESCRIPTION:Tickets are available for the annual St Patrick’s Dinners on February 13th and March 17th.  Tickets in advance!
URL:https://hackettstownbid.com/event/knights-of-columbus-st-patricks-dinner/
LOCATION:Knights of Columbus Club Hall\, 142 Liberty St\, Hackettstown\, NJ\, 07840\, United States
CATEGORIES:Community Calendar
ATTACH;FMTTYPE=image/png:https://hackettstownbid.com/wp-content/uploads/Dual-Advertisement-2026.pdf-e1770056319540.png
END:VEVENT
END:VCALENDAR