BEGIN:VCALENDAR
VERSION:2.0
PRODID:-//Hackettstown BID - ECPv6.15.20//NONSGML v1.0//EN
CALSCALE:GREGORIAN
METHOD:PUBLISH
X-ORIGINAL-URL:https://hackettstownbid.com
X-WR-CALDESC:Events for Hackettstown BID
REFRESH-INTERVAL;VALUE=DURATION:PT1H
X-Robots-Tag:noindex
X-PUBLISHED-TTL:PT1H
BEGIN:VTIMEZONE
TZID:America/New_York
BEGIN:DAYLIGHT
TZOFFSETFROM:-0500
TZOFFSETTO:-0400
TZNAME:EDT
DTSTART:20240310T070000
END:DAYLIGHT
BEGIN:STANDARD
TZOFFSETFROM:-0400
TZOFFSETTO:-0500
TZNAME:EST
DTSTART:20241103T060000
END:STANDARD
BEGIN:DAYLIGHT
TZOFFSETFROM:-0500
TZOFFSETTO:-0400
TZNAME:EDT
DTSTART:20250309T070000
END:DAYLIGHT
BEGIN:STANDARD
TZOFFSETFROM:-0400
TZOFFSETTO:-0500
TZNAME:EST
DTSTART:20251102T060000
END:STANDARD
BEGIN:DAYLIGHT
TZOFFSETFROM:-0500
TZOFFSETTO:-0400
TZNAME:EDT
DTSTART:20260308T070000
END:DAYLIGHT
BEGIN:STANDARD
TZOFFSETFROM:-0400
TZOFFSETTO:-0500
TZNAME:EST
DTSTART:20261101T060000
END:STANDARD
END:VTIMEZONE
BEGIN:VEVENT
DTSTART;TZID=America/New_York:20250213T173000
DTEND;TZID=America/New_York:20250213T190000
DTSTAMP:20260419T192626
CREATED:20250212T195606Z
LAST-MODIFIED:20250212T201701Z
UID:2357-1739467800-1739473200@hackettstownbid.com
SUMMARY:Galentine's Day Chocolate Treat Making Class
DESCRIPTION:Event Date\n2025-02-13\n\n\nEvent Time\n5:30pm – 7:00pm\n\n\nEvent Location\nFromage\n159 Main Street\nHackettstown NJ 07840\n\n\nEvent Details\nJoin us at Fromage for our Galentine’s Day Chocolate Treat making Class!\n$50.00 per person\n(includes a box of sweets and a glass of wine!)\n\n\nPhone number\, website\, Facebook page\, etc.\n9082698129
URL:https://hackettstownbid.com/event/galentines-day-chocolate-treat-making-class/
LOCATION:Fromage\, 159 Main Street\, Hackettstown\, NJ\, 07840\, United States
CATEGORIES:Community Calendar
ATTACH;FMTTYPE=image/jpeg:https://hackettstownbid.com/wp-content/uploads/hackettstown_bid-featured_image.jpg
END:VEVENT
END:VCALENDAR