BEGIN:VCALENDAR
VERSION:2.0
PRODID:-//Hackettstown BID - ECPv6.15.20//NONSGML v1.0//EN
CALSCALE:GREGORIAN
METHOD:PUBLISH
X-ORIGINAL-URL:https://hackettstownbid.com
X-WR-CALDESC:Events for Hackettstown BID
REFRESH-INTERVAL;VALUE=DURATION:PT1H
X-Robots-Tag:noindex
X-PUBLISHED-TTL:PT1H
BEGIN:VTIMEZONE
TZID:America/New_York
BEGIN:DAYLIGHT
TZOFFSETFROM:-0500
TZOFFSETTO:-0400
TZNAME:EDT
DTSTART:20220313T070000
END:DAYLIGHT
BEGIN:STANDARD
TZOFFSETFROM:-0400
TZOFFSETTO:-0500
TZNAME:EST
DTSTART:20221106T060000
END:STANDARD
BEGIN:DAYLIGHT
TZOFFSETFROM:-0500
TZOFFSETTO:-0400
TZNAME:EDT
DTSTART:20230312T070000
END:DAYLIGHT
BEGIN:STANDARD
TZOFFSETFROM:-0400
TZOFFSETTO:-0500
TZNAME:EST
DTSTART:20231105T060000
END:STANDARD
BEGIN:DAYLIGHT
TZOFFSETFROM:-0500
TZOFFSETTO:-0400
TZNAME:EDT
DTSTART:20240310T070000
END:DAYLIGHT
BEGIN:STANDARD
TZOFFSETFROM:-0400
TZOFFSETTO:-0500
TZNAME:EST
DTSTART:20241103T060000
END:STANDARD
BEGIN:DAYLIGHT
TZOFFSETFROM:-0500
TZOFFSETTO:-0400
TZNAME:EDT
DTSTART:20250309T070000
END:DAYLIGHT
BEGIN:STANDARD
TZOFFSETFROM:-0400
TZOFFSETTO:-0500
TZNAME:EST
DTSTART:20251102T060000
END:STANDARD
BEGIN:DAYLIGHT
TZOFFSETFROM:-0500
TZOFFSETTO:-0400
TZNAME:EDT
DTSTART:20260308T070000
END:DAYLIGHT
BEGIN:STANDARD
TZOFFSETFROM:-0400
TZOFFSETTO:-0500
TZNAME:EST
DTSTART:20261101T060000
END:STANDARD
END:VTIMEZONE
BEGIN:VEVENT
DTSTART;TZID=America/New_York:20250125T120000
DTEND;TZID=America/New_York:20250125T160000
DTSTAMP:20260423T215920
CREATED:20250108T182019Z
LAST-MODIFIED:20250121T194423Z
UID:2180-1737806400-1737820800@hackettstownbid.com
SUMMARY:Grand Opening & Ribbon Cutting
DESCRIPTION:You’re Invited to the Grand Opening of Delloons Boutique!  \nWe are thrilled to announce the Grand Opening of  Delloons Boutique!  \nJoin us:\n Saturday\, January 25\, 2025\n 12:00 PM – 4:00 PM\n 262 Main Street Hackettstown\, NJ \nCome and experience balloon artistry like never before! \n What’s Happening? \n\nFree refreshments to enjoy while you visit\nGoodie bags for kids\nComplimentary balloons for all ages\nExclusive discounts on our products and services\n\nLet us add a splash of color and creativity to your day. Whether you’re celebrating a milestone or just curious about the art of balloons\, this event is for you! \nMark your calendar and bring your family\, friends\, and neighbors. We can’t wait to welcome you to the Delloons family! \n 
URL:https://hackettstownbid.com/event/grand-opening-ribbon-cutting/
LOCATION:Delloons\, 262 Main St\, Hackettstown\, NJ\, 07840\, United States
CATEGORIES:BID Happenings
ATTACH;FMTTYPE=image/jpeg:https://hackettstownbid.com/wp-content/uploads/Colorful-Balloons-Happy-Birthday-Card-3.jpeg
END:VEVENT
BEGIN:VEVENT
DTSTART;TZID=America/New_York:20250118T120000
DTEND;TZID=America/New_York:20250118T130000
DTSTAMP:20260423T215920
CREATED:20250108T191653Z
LAST-MODIFIED:20250116T162104Z
UID:2184-1737201600-1737205200@hackettstownbid.com
SUMMARY:Ribbon Cutting and Open House
DESCRIPTION:
URL:https://hackettstownbid.com/event/ribbon-cutting-and-open-house/
LOCATION:The Love of Dance\, 289 Main St\, Hackettstown\, NJ\, 07840\, United States
CATEGORIES:BID Happenings
ATTACH;FMTTYPE=image/jpeg:https://hackettstownbid.com/wp-content/uploads/Screenshot-2025-01-15-at-9.48.00 PM.jpeg
END:VEVENT
BEGIN:VEVENT
DTSTART;TZID=America/New_York:20250113T160000
DTEND;TZID=America/New_York:20250113T180000
DTSTAMP:20260423T215920
CREATED:20250102T173135Z
LAST-MODIFIED:20250102T173135Z
UID:2135-1736784000-1736791200@hackettstownbid.com
SUMMARY:BID Board Annual Meeting
DESCRIPTION:Please join us for the upcoming \nBID Board Annual Meeting \nMonday\, January 13\, 2025 at 4:00pm \n@ the BID Office (219 Main St) \nNewly elected Board Members will be welcomed. \n We also will choose our 2025 officers\, talk about our committees/committee chairs\, discuss 2025 events \nand more. \nFor more information or questions\, please contact the HBID office.
URL:https://hackettstownbid.com/event/bid-board-annual-meeting/
CATEGORIES:BID Happenings
ATTACH;FMTTYPE=image/jpeg:https://hackettstownbid.com/wp-content/uploads/hackettstown_bid-featured_image.jpg
END:VEVENT
BEGIN:VEVENT
DTSTART;TZID=America/New_York:20241207T120000
DTEND;TZID=America/New_York:20241207T160000
DTSTAMP:20260423T215920
CREATED:20241207T025312Z
LAST-MODIFIED:20241207T030427Z
UID:2092-1733572800-1733587200@hackettstownbid.com
SUMMARY:Santa's Wonderland
DESCRIPTION:Saturday\, December 7\, 2024 noon – 4:00PM \nHackettstown Community Center  293 Main Street\, hackettstown \nSHOP SMALL CELEBRATION \nbusiness specials & activities through town \nholiday music on main street provided by DJ s.c.3. on saturday 12-4m
URL:https://hackettstownbid.com/event/santas-wonderland/
CATEGORIES:BID Happenings
ATTACH;FMTTYPE=image/png:https://hackettstownbid.com/wp-content/uploads/Illustrated-Santa-Beard-Christmas-Bazaar-Flyer-e1733540034326.png
END:VEVENT
BEGIN:VEVENT
DTSTART;TZID=America/New_York:20241104T180000
DTEND;TZID=America/New_York:20241104T190000
DTSTAMP:20260423T215920
CREATED:20241017T183324Z
LAST-MODIFIED:20241017T183324Z
UID:1980-1730743200-1730746800@hackettstownbid.com
SUMMARY:BID Speaker Series-Workplace Retirement Plans: Exploring Solutions for Your Business
DESCRIPTION:We would like to invite you to the Hackettstown Business Improvement District Guest Speaker Series Virtual webinar! \nThis topic is on Workplace Retirement Plans: Exploring Solutions for Your Business – Presented by Erin Madonna with Edward Jones of Hackettstown \nZoom Link: To be provided before the event starts. \nAbout: There are many reasons for establishing a workplace retirement plan for your business. We will discuss options\, tax credits\, and key considerations. \nRSVP by emailing socialmedia@hackettstownbid.com
URL:https://hackettstownbid.com/event/bid-speaker-series-workplace-retirement-plans-exploring-solutions-for-your-business/
CATEGORIES:BID Happenings
ATTACH;FMTTYPE=image/jpeg:https://hackettstownbid.com/wp-content/uploads/unnamed-22.jpg
END:VEVENT
BEGIN:VEVENT
DTSTART;TZID=America/New_York:20241028T163000
DTEND;TZID=America/New_York:20241030T190000
DTSTAMP:20260423T215920
CREATED:20241025T163943Z
LAST-MODIFIED:20241025T164036Z
UID:1990-1730133000-1730314800@hackettstownbid.com
SUMMARY:Spook the House Contest
DESCRIPTION:Hackettstown Police Department is sponsoring a “Spook” The House Contest \n\n\n\n\n\nJudging for the “Spook” The House Contest will take place on Oct. 28 and Oct. 29 during the day and night as they are patrolling the neighborhoods. Winners will be notified on Wednesday\, Oct. 30th.No prior registration is required.
URL:https://hackettstownbid.com/event/spook-the-house-contest/
CATEGORIES:BID Happenings
ATTACH;FMTTYPE=image/jpeg:https://hackettstownbid.com/wp-content/uploads/464306634_982449993923466_1076480628330863467_n-e1729874431619.jpg
END:VEVENT
BEGIN:VEVENT
DTSTART;TZID=America/New_York:20240907T123000
DTEND;TZID=America/New_York:20240907T130000
DTSTAMP:20260423T215920
CREATED:20240820T163343Z
LAST-MODIFIED:20240826T151635Z
UID:1815-1725712200-1725714000@hackettstownbid.com
SUMMARY:Grand Opening Little Hearts Counseling and Bright Speech Therapy
DESCRIPTION:Welcome to the #hackettstownbid! Join us in welcoming Little Hearts Counseling and Bright Speech Therapy with a Grand Opening Sept 7th. Visit them at 254 B Mountain Avenue Suite 307
URL:https://hackettstownbid.com/event/grand-opening-little-hearts-counseling-and-bright-speech-therapy/
LOCATION:254 B Mountain Avenue Suite 307\, 254 B Mountain Avenue Suite 307\, Hackettstown\, NJ\, 07840\, United States
CATEGORIES:BID Happenings,Community Calendar
ATTACH;FMTTYPE=image/jpeg:https://hackettstownbid.com/wp-content/uploads/grand-opening.jpg
END:VEVENT
BEGIN:VEVENT
DTSTART;TZID=America/New_York:20240907T120000
DTEND;TZID=America/New_York:20240907T123000
DTSTAMP:20260423T215920
CREATED:20240820T161525Z
LAST-MODIFIED:20240826T151709Z
UID:1809-1725710400-1725712200@hackettstownbid.com
SUMMARY:Grand Opening Celebration Cruise Planners
DESCRIPTION:Welcome to the #hackettstownbid! Join us in welcoming Cruise Planners – www.cruisesforsail.com with a Grand Opening Sept 7th. Visit them at 230 Main St.
URL:https://hackettstownbid.com/event/grand-opening-celebration-cruise-planners/
LOCATION:Cruise Planners\, 230 Main St.\, Hackettstown\, NJ\, 07840\, United States
CATEGORIES:BID Happenings,Community Calendar
ATTACH;FMTTYPE=image/png:https://hackettstownbid.com/wp-content/uploads/GRAND-OPENING-Cruises-for-Sail-2-2-e1724170917338.png
END:VEVENT
BEGIN:VEVENT
DTSTART;TZID=America/New_York:20240808T170000
DTEND;TZID=America/New_York:20240808T200000
DTSTAMP:20260423T215920
CREATED:20240604T181456Z
LAST-MODIFIED:20240807T175521Z
UID:1653-1723136400-1723147200@hackettstownbid.com
SUMMARY:Late Night Thursdays-August 8th~ FAMILY NIGHT
DESCRIPTION:Themed Sales and Special Events through the Hackettstown Businesses: \nAugust 8th~ FAMILY NIGHT LATE NIGHT THURSDAY SPECIALS \nMOST OF HACKETTSTOWN’S EATERIES ARE OPEN LATE ON THURSDAYS \nLoft at KM-108-E. Plane St. -Stop in from 5-8pm for a Mommy and Me Facial Gift Card at a discounted price \nMj Unique Closets– 112 East Plane St -Summer Sale 20% off select items \nErin Madonna-Edward Jones ~174 Mountain Ave\, Suite 2 ~ Free consultation\, contact 908-850-1110 to schedule. \nCzig Meister Brewing ~ 106 Valentine St.-”Late Flight Thursdays”- All flights come with an extra 4 oz pour. \nRight Hair Beauty Supply 112 Main Street-Open until 8 pm \nPsychic Readings by Anna~119 Main St.- $20 readings-Walk ins Welcome! \nGlobal Union Multiservice LLC~121 Main St- Open until 8 pm stop in for FREE Popcorn\, TSA Cheer fundraiser Lemonade Stand and money saving scratch off. \nTaurus Grill Restaurant~127 Main St.-Open until 10 pm \nDivine Kin -130 Main St~ Open until 7 pm stop in for Footwear\, Apparel\, Art and Community \nOasis Online Arcade -136 Main St. ~Thursday Teen Takeover. Duckhunt Challenge \nMan Skirt Brewing~144 Main St.-  Karaoke fundraiser for Hackettstown Library. \nFromage and The Shoppes at Luce’s 159 Main St-Open until 8 pm-Free Cheese Samples! \nHome Sweet Hackettstown 150 Main Street-Open until 8 pm \nMe To You Boutique- 159 Main St- Enter to win a guitar. Drawing 8/8/24 \nLuLu’s Book Nook ~159 Main St-Buy 1 get 1 FREE Kid’s Books. \nMarley’s Gotham Grill ~169 Main St.- Burgers and Brews $10.95 served with bottomless fries. \nThe G&G Big Closet~​​172 Main St.- Open until 8 pm-Stop in for sales \nJeniffer Fashion & Accesories~​​174 Main St.- Open until 8 pm-Stop in for sales \nThe Gold Mine~176 Main St. – 1 ounce .999 silver rounds in stock\, 10% off sterling silver jewelry sale \nSweet Bite Delights~199 Main St.-Stop in for Ice Cream \nTracey’s Candy Shoppe~210 Main St- $2 Fudge \nGreene’s Beans Cafe~313 High St.-  Board Games and Bistros!-Bring a board game or play one they have. Enjoy complimentary samples of their new pastry bistros. \nBusinesses email socialmedia@hackettstownbid.com to participate
URL:https://hackettstownbid.com/event/late-night-thursdays/
CATEGORIES:BID Happenings
ATTACH;FMTTYPE=image/png:https://hackettstownbid.com/wp-content/uploads/2024-Late-Night-Thursday-8.5-x-11-in-e1717525365330.png
END:VEVENT
BEGIN:VEVENT
DTSTART;TZID=America/New_York:20240806T180000
DTEND;TZID=America/New_York:20240806T220000
DTSTAMP:20260423T215920
CREATED:20240618T180025Z
LAST-MODIFIED:20240806T152736Z
UID:1680-1722967200-1722981600@hackettstownbid.com
SUMMARY:National Night Out and Lawn Movie CANCELED
DESCRIPTION:DUE TO IMPENDING WEATHER\, NATIONAL NIGHT OUT AND THE LAWN MOVIE ARE CANCELED. \nCome join the Hackettstown Police Department\, the Hackettstown BID and the Hackettstown Rec Dept. at the National Night Out event on Tuesday August 6\, 2024 from 6:00 p.m. – 10:00 p.m. at the Arthur J. Sheldon Recreation Complex located next to the Hackettstown Community Pool (499 Warren St). \nThe Hackettstown BID will host a Wellness Fair and a non perishable Food Drive (to benefit Hackettstown food banks)\nWellness vendors will include : Atlantic Health Care\,  Bright Smiles 4 Kids Pediatric Dentistry & Orthodontics\, Center Point Wellness\, Aries Moon Crystals\, LIVE FULLY NOW Rehab and Wellness\,  New Jersey Foot & Ankle Institute\, Bright Speech Speech Therapy\,  Little Hearts Counseling\, Ivy Rehab Physical Therapy\, Kara-Bout Your Body and more.\nFood\, Family Activities\, Wellness Fair\, Food Drive (to benefit Hackettstown food banks) and a free lawn movie at dusk-Kung Fu Panda 4.
URL:https://hackettstownbid.com/event/national-night-out/
LOCATION:Arthur Sheldon Rec Field\, 499 Warren Street\, Hackettstown\, NJ\, 07840\, United States
CATEGORIES:BID Happenings
ATTACH;FMTTYPE=image/png:https://hackettstownbid.com/wp-content/uploads/2024-National-Night-Out-Instagram-Post.png
END:VEVENT
BEGIN:VEVENT
DTSTART;TZID=America/New_York:20240325T183000
DTEND;TZID=America/New_York:20240325T193000
DTSTAMP:20260423T215920
CREATED:20240312T165022Z
LAST-MODIFIED:20240312T165842Z
UID:1396-1711391400-1711395000@hackettstownbid.com
SUMMARY:Speaker Series-Access to New Markets
DESCRIPTION:Presented by Valley Natl Bank. Connect with resources and learn how to fund your business. \nContact director@hackettstownbid.com for ZOOM Link
URL:https://hackettstownbid.com/event/speaker-series-access-to-new-markets/
CATEGORIES:BID Happenings
ATTACH;FMTTYPE=image/png:https://hackettstownbid.com/wp-content/uploads/Access-to-New-Markets-3.25.24-e1710262191182.png
END:VEVENT
BEGIN:VEVENT
DTSTART;TZID=America/New_York:20240324T120000
DTEND;TZID=America/New_York:20240324T140000
DTSTAMP:20260423T215920
CREATED:20240312T135911Z
LAST-MODIFIED:20240312T165029Z
UID:829-1711281600-1711288800@hackettstownbid.com
SUMMARY:Easter
DESCRIPTION:
URL:https://hackettstownbid.com/bid-happenings/easter/
LOCATION:Centenary University
CATEGORIES:BID Happenings
ATTACH;FMTTYPE=image/png:https://hackettstownbid.com/wp-content/uploads/Easter.png
END:VEVENT
BEGIN:VEVENT
DTSTART;TZID=America/New_York:20240310T080000
DTEND;TZID=America/New_York:20240310T170000
DTSTAMP:20260423T215920
CREATED:20231229T161814Z
LAST-MODIFIED:20240130T183136Z
UID:814-1710057600-1710090000@hackettstownbid.com
SUMMARY:St. Patrick's Day Parade
DESCRIPTION:
URL:https://hackettstownbid.com/bid-happenings/st-patricks-day/
CATEGORIES:BID Happenings
ATTACH;FMTTYPE=image/jpeg:https://hackettstownbid.com/wp-content/uploads/banner-st_patricks_day.jpg
END:VEVENT
BEGIN:VEVENT
DTSTART;VALUE=DATE:20240205
DTEND;VALUE=DATE:20240206
DTSTAMP:20260423T215920
CREATED:20240130T182514Z
LAST-MODIFIED:20240130T182714Z
UID:1166-1707091200-1707177599@hackettstownbid.com
SUMMARY:February BID Committee Meetings
DESCRIPTION:All are invited and encouraged to attend the BID COMMITTEE MEETINGS \nALL MEETINGS WILL BE BOTH IN PERSON (Bid Office 219 Main Street) AND ON ZOOM Monday\, February 5th \nMarketing -Monday\, February 5th at 10 am \nBusiness Development/Strategic Planning/Governance Monday\, February 5th at 12 noon \nEvents -Monday\, February 5th at 4 pm \nPlease email socialmedia@hackettstownbid.com for ZOOM link
URL:https://hackettstownbid.com/event/february-bid-committee-meetings/
CATEGORIES:BID Happenings
ATTACH;FMTTYPE=image/jpeg:https://hackettstownbid.com/wp-content/uploads/hackettstown_bid-featured_image.jpg
END:VEVENT
BEGIN:VEVENT
DTSTART;TZID=America/New_York:20240122T183000
DTEND;TZID=America/New_York:20240122T200000
DTSTAMP:20260423T215920
CREATED:20231229T162007Z
LAST-MODIFIED:20231229T162007Z
UID:817-1705948200-1705953600@hackettstownbid.com
SUMMARY:Speaker Series
DESCRIPTION:
URL:https://hackettstownbid.com/bid-happenings/speaker-series/
CATEGORIES:BID Happenings
ATTACH;FMTTYPE=image/jpeg:https://hackettstownbid.com/wp-content/uploads/hackettstown_bid-featured_image.jpg
END:VEVENT
BEGIN:VEVENT
DTSTART;TZID=America/New_York:20230814T180000
DTEND;TZID=America/New_York:20230814T200000
DTSTAMP:20260423T215920
CREATED:20230710T194959Z
LAST-MODIFIED:20230728T181637Z
UID:301-1692036000-1692043200@hackettstownbid.com
SUMMARY:BID Member Meet and Greet
DESCRIPTION:Did you know you belong to the Hackettstown BID?  You are invited to meet your neighbors at our MEET & GREET! \nAs a member of the Hackettstown BID you are invited to a meet & greet where you can socialize with other members of our business community and learn more about the BID \nDetails\n\nWhere:  Czig Meister Biergarten (inside if rain)\nComplimentary food and cash bar\nInvitation is for 2 guests per business\, additional guests – $15 pp\nRSVP by August 7th\n\nEmail socialmedia@hackettstownbid.com or director@hackettstowbid.com.
URL:https://hackettstownbid.com/event/bid-member-meet-and-greet/
CATEGORIES:BID Happenings
ATTACH;FMTTYPE=image/jpeg:https://hackettstownbid.com/wp-content/uploads/hackettstown_bid-featured_image.jpg
END:VEVENT
END:VCALENDAR