BEGIN:VCALENDAR
VERSION:2.0
PRODID:-//Hackettstown BID - ECPv6.15.20//NONSGML v1.0//EN
CALSCALE:GREGORIAN
METHOD:PUBLISH
X-ORIGINAL-URL:https://hackettstownbid.com
X-WR-CALDESC:Events for Hackettstown BID
REFRESH-INTERVAL;VALUE=DURATION:PT1H
X-Robots-Tag:noindex
X-PUBLISHED-TTL:PT1H
BEGIN:VTIMEZONE
TZID:America/New_York
BEGIN:DAYLIGHT
TZOFFSETFROM:-0500
TZOFFSETTO:-0400
TZNAME:EDT
DTSTART:20250309T070000
END:DAYLIGHT
BEGIN:STANDARD
TZOFFSETFROM:-0400
TZOFFSETTO:-0500
TZNAME:EST
DTSTART:20251102T060000
END:STANDARD
BEGIN:DAYLIGHT
TZOFFSETFROM:-0500
TZOFFSETTO:-0400
TZNAME:EDT
DTSTART:20260308T070000
END:DAYLIGHT
BEGIN:STANDARD
TZOFFSETFROM:-0400
TZOFFSETTO:-0500
TZNAME:EST
DTSTART:20261101T060000
END:STANDARD
BEGIN:DAYLIGHT
TZOFFSETFROM:-0500
TZOFFSETTO:-0400
TZNAME:EDT
DTSTART:20270314T070000
END:DAYLIGHT
BEGIN:STANDARD
TZOFFSETFROM:-0400
TZOFFSETTO:-0500
TZNAME:EST
DTSTART:20271107T060000
END:STANDARD
END:VTIMEZONE
BEGIN:VEVENT
DTSTART;VALUE=DATE:20260606
DTEND;VALUE=DATE:20260607
DTSTAMP:20260423T131121
CREATED:20240408T162659Z
LAST-MODIFIED:20260421T155223Z
UID:1512-1780704000-1780790399@hackettstownbid.com
SUMMARY:Hackettstown Community Day
DESCRIPTION: Hackettstown Community Day will take place on June 6\, 2026\, from 12:00-8:00PM with a rain date: Sunday\, June 7th\, from 12:00 PM to 6:00 PM.\nWe will feature a Mars Wrigley candy giveaway\, the Hackettstown Medical Center tent\, various games and activities\, food\, and vendors throughout the day. Join us for an Old Fashioned Country Fair. \nCelebrate America’s 250th and The World Cup Kick Off \n“Hackettstown’s Got Talent” sponsored by The Strand Studios \nRegistration Link for Talent Contest: \n“Dancing with the Local Stars” sponsored by Classic Ballroom Dance Studio \n*Loyalty Cards will be for sale and can be used at participating Hackettstown BID businesses for discounts and promotions. A QR code on the back of the card will indicate participating businesses and specials\, which will be updated throughout the year. \nWe hope to see you there! \nThis year’s event will be held at Hackettstown High School and the Hackettstown Recreation field\, Sheldon Field\, Warren St. \nEvents include: \n\nTalent Show\nDancing with the Local Stars Show\nMars Wrigley Candy Giveaway\nHackettstown Medical Center Tent\nGames and Contests\nActivities include a zip line\, Ninja Warrior obstacle course\, Toxic Melt Down Course\, Rockwall\, and Bunji Trampoline\nFood\nVendors\n\nVendors\n2026 COMMUNITY DAY FOOD VENDOR APPLICATION \n2026 COMMUNITY DAY VENDOR APPLICATION \n2026 HACKETTSTOWN’S GOT TALENT SIGN UPS \nFor sponsorship opportunities\, call the BID office at 908-850-5004 or email socialmedia@hackettstownbid.com. Any food vendors\, crafters\, exhibitors\, artists or performers who would like to participate are encouraged to contact the HKTWN BID office by phone or email socialmedia@hackettstownbid.com. \n2026 COMMUNITY DAY FOOD VENDOR FORM2026 COMMUNITY DAY VENDOR APPLICATION
URL:https://hackettstownbid.com/event/hackettstown-community-day/
LOCATION:Arthur Sheldon Rec Field\, 499 Warren Street\, Hackettstown\, NJ\, 07840\, United States
CATEGORIES:BID Happenings
ATTACH;FMTTYPE=image/jpeg:https://hackettstownbid.com/wp-content/uploads/HACKETTSTOWN-COMMUNITY-DAY.jpg
END:VEVENT
BEGIN:VEVENT
DTSTART;TZID=America/New_York:20260606T130000
DTEND;TZID=America/New_York:20260606T160000
DTSTAMP:20260423T131121
CREATED:20260414T173544Z
LAST-MODIFIED:20260414T173544Z
UID:3635-1780750800-1780761600@hackettstownbid.com
SUMMARY:Hackettstown's Got Talent
DESCRIPTION:Pre-Registration Required
URL:https://hackettstownbid.com/event/hackettstowns-got-talent/
LOCATION:Arthur Sheldon Rec Field\, 499 Warren Street\, Hackettstown\, NJ\, 07840\, United States
CATEGORIES:BID Happenings
ATTACH;FMTTYPE=image/jpeg:https://hackettstownbid.com/wp-content/uploads/Hackettstowns-Got-Talent-2026-scaled.jpg
END:VEVENT
BEGIN:VEVENT
DTSTART;VALUE=DATE:20260719
DTEND;VALUE=DATE:20260720
DTSTAMP:20260423T131121
CREATED:20240219T182703Z
LAST-MODIFIED:20260319T164903Z
UID:1295-1784419200-1784505599@hackettstownbid.com
SUMMARY:Street Fair
DESCRIPTION:Join us as we celebrate the annual Hackettstown Street Fair on Main Street. There will be over 100  Vendors including Artisans and Crafters\,  LIVE entertainment\, food and more! This event is family-friendly right on Main St. \nVisitors are invited to experience the vendors\, live performances throughout the day\, kids’ area\, and local shopping. This event offers a bit of something for everyone! Admission is FREE! \nJuly 19\, 2026  Rain Date July 26 \nIf you are an artist or crafter and would like to be a vendor\, please sign up at https://www.marketspacevendorevents.com/2026events  \nHackettstown BID Businesses sign up https://www.marketspacevendorevents.com/hackettstown-signup \nThank you to our Generous Sponsors:\nMars Wrigley\nDelloons Balloon Boutique\nLiquid Local Media\nJohn Johnson Automotive Group\nBright Smiles 4 Kids\nSanico\nBuddy’s Auto Repair\nVermella Hackettstown\nClassic Ballroom Dance Studio\nAtlantic Health – Hackettstown Medical Center\nEuro Deli 2 Go\nExplore Warren\nMaguire Memorial Home\, Inc.\nStuber Insurance Agency\nValley Bank\nFulton Bank\nWrnj\nMarketspace Vendor Events
URL:https://hackettstownbid.com/event/street-fair/
CATEGORIES:BID Happenings
ATTACH;FMTTYPE=image/jpeg:https://hackettstownbid.com/wp-content/uploads/street-fair-logo-e1708367351519.jpg
END:VEVENT
END:VCALENDAR