BEGIN:VCALENDAR
VERSION:2.0
PRODID:-//Hackettstown BID - ECPv6.15.20//NONSGML v1.0//EN
CALSCALE:GREGORIAN
METHOD:PUBLISH
X-ORIGINAL-URL:https://hackettstownbid.com
X-WR-CALDESC:Events for Hackettstown BID
REFRESH-INTERVAL;VALUE=DURATION:PT1H
X-Robots-Tag:noindex
X-PUBLISHED-TTL:PT1H
BEGIN:VTIMEZONE
TZID:America/New_York
BEGIN:DAYLIGHT
TZOFFSETFROM:-0500
TZOFFSETTO:-0400
TZNAME:EDT
DTSTART:20250309T070000
END:DAYLIGHT
BEGIN:STANDARD
TZOFFSETFROM:-0400
TZOFFSETTO:-0500
TZNAME:EST
DTSTART:20251102T060000
END:STANDARD
BEGIN:DAYLIGHT
TZOFFSETFROM:-0500
TZOFFSETTO:-0400
TZNAME:EDT
DTSTART:20260308T070000
END:DAYLIGHT
BEGIN:STANDARD
TZOFFSETFROM:-0400
TZOFFSETTO:-0500
TZNAME:EST
DTSTART:20261101T060000
END:STANDARD
BEGIN:DAYLIGHT
TZOFFSETFROM:-0500
TZOFFSETTO:-0400
TZNAME:EDT
DTSTART:20270314T070000
END:DAYLIGHT
BEGIN:STANDARD
TZOFFSETFROM:-0400
TZOFFSETTO:-0500
TZNAME:EST
DTSTART:20271107T060000
END:STANDARD
END:VTIMEZONE
BEGIN:VEVENT
DTSTART;TZID=America/New_York:20260305T180000
DTEND;TZID=America/New_York:20260305T210000
DTSTAMP:20260423T190610
CREATED:20240116T160510Z
LAST-MODIFIED:20260305T145046Z
UID:1086-1772733600-1772744400@hackettstownbid.com
SUMMARY:St Patrick's Grand Marshal Reception
DESCRIPTION:Join Us Thursday\, March 5th for Hackettstown’s St. Patrick’s Parade Grand Marshal Reception at David’s Country Inn – 314 Main St\, Hackettstown. This year’s Grand Marshal is Mr. Shawn Burke! \nThe Hackettstown Business Improvement District kicks off the Parade weekend with a Grand Marshal Reception to honor 2026 St. Patrick’s Parade Grand Marshal\, Mr. Shawn Burke! The buffet reception dinner features a live performance by Rory O’Moore School of Pipes and Drums and a dance performance by Slattery School of Irish Dance. \n$70 per ticket $650 table of 10 (plus $2 convenience fee per ticket) (Includes dinner buffet\, entertainment and cash bar)  RSVP by Monday Feb 23rd \nTHANK YOU TO OUR GENEROUS SPONSORS: \, \nFor more information EMAIL socialmedia@hackettstownbid.com Or call (908)850-5004 \n\nShawn is very proud of his Irish lineage\, tracing his roots in America back to 1848 when Bernard Burke emigrated to the US in 1848. Bernard (Barney) eventually settled in Hudson County\, NJ and served in the Union army during the Civil War at age 35. He married Catherine McTigue and eventually settled in Warren County where his Son Frank came to Hackettstown and married Honor Grogan. Their son William married Lena Reidinger and settled on Liberty St in Hackettstown (then referred to as Little Dublin) where Shawn’s father William Jr (Grand Marshal 2016) was born and raised. \nShawn was born the 6 th of 7 children to William and Agnes Burke in Denville NJ. They originally lived in Rockaway NJ before moving back to his father’s hometown of Hackettstown in 1965. Shawn attended St Mary’s Parochial School and graduated from Hackettstown High School where he was a member of the National Honor Society and earned 8 Varsity letters in Football\, Wrestling and Track\, where Shawn was also a proud member and Co-Captain of the 1981 State Champion Football team. In 1982\, Shawn was appointed to and attended the U.S. Merchant Marine Academy at King’s Point\, New York\, where he graduated in 1986 with a degree in Marine Transportation and a commission as an officer in the US Naval Reserves. He has had a 40-year career in the Maritime Industry where he currently holds the position of North Atlantic Operations Manager for NYK Line in Secaucus. \nShawn has served his community as a little league umpire\, and as a volunteer coach for both the Hackettstown Wrestling Club and Hackettstown Recreation Baseball. He was a 15-year member of the Hackettstown Planning / Land Use Board and is currently in his 15 th year as a Member of the Hackettstown Board of Education. Shawn also is in his 16 th year as color commentator for Hackettstown Tiger Football on our hometown Radio Station WRNJ. \nShawn lives in Hackettstown with his lovely wife of 29 years\, Alice\, and their 5 children: Emily\, Shawn Jr.\, Zebulon\, Liam and Samson. He is very honored to be selected as the Grand Marshal for Hackettstown’s 2026 St Patrick’s Day Parade and is eternally grateful for the overwhelming support from our great community.\nErin Go Bragh!
URL:https://hackettstownbid.com/event/st-patricks-grand-marshal-reception/
LOCATION:David’s Country Inn
CATEGORIES:BID Happenings
ATTACH;FMTTYPE=image/png:https://hackettstownbid.com/wp-content/uploads/st_patricks_day-logo.png
END:VEVENT
BEGIN:VEVENT
DTSTART;TZID=America/New_York:20260308T153000
DTEND;TZID=America/New_York:20260308T170000
DTSTAMP:20260423T190610
CREATED:20250127T151155Z
LAST-MODIFIED:20260306T193602Z
UID:2253-1772983800-1772989200@hackettstownbid.com
SUMMARY:St Patrick's Day Parade
DESCRIPTION:The 17th Annual St. Patrick’s Parade will be Sunday\, March 8\, 2026. This Irish-American tradition attracts thousands of visitors—making this parade one of the biggest events in Hackettstown. The St. Patrick’s Day Parade will kick off at 3:30 pm with numerous participants including Irish dance groups\, Irish bands\, community groups\, bagpipes and drums\, Centenary University and Hackettstown High School teams and clubs\, Surrounding area fire departments and rescue squads\, as well as hometown favorites Junior and Senior Colonial Musketeers and the Hackettstown Community Band. The parade takes place on Main Street from Grand Avenue to Warren Street. \nWe have a QUIET SENSORY ZONE for those who are sensitive to noise.  This location will be marked by bright colored lawn signs – It will start at W. Plane Street and go to Center Street. PLEASE NO SIRENS\, LOUD NOISE\, MUSIC\, BEEPING\, REEVING ETC. in this zone.  \nThe parade is pet-friendly\, with a special pet Irish Costume Contest sponsored by Doggie Styleash. Judging will be held at Czig Meister Brewing\, located at 106 Valentine St. starting at 3:30 pm sharp. Pets will then be invited to walk the parade after judging. \nThe Hackettstown Business Improvement District kicks off the Parade weekend with a Grand Marshal Reception to honor 2026 St. Patrick’s Parade Grand Marshal\, Mr. Shawn Burke! The reception dinner features a live performance by Rory O’Moore School of Pipes and Drums and a dance performance by Slattery School of Irish Dance. \n  \nTHANK YOU TO OUR GENEROUS SPONSORS: \nMars Wrigley \nDelloons Balloon Boutique \nJohn Johnson Automotive Group \nVermella Hackettstown \nClassic Ballroom Dance Studio \nLiquid Local Media \nBuddy’s Auto Repair \nBright Smiles 4 Kids \nSanico\, Inc. \nAtlantic Health \nEuro Deli 2 Go \nMaguire Memorial Home\, Inc. \nDavid’s Country Inn \nFulton Bank \nStuber Insurance Agency \nExplore Warren \nWRNJ Radio\, Inc. \n 
URL:https://hackettstownbid.com/event/st-patricks-day-parade/
CATEGORIES:BID Happenings
ATTACH;FMTTYPE=image/jpeg:https://hackettstownbid.com/wp-content/uploads/banner-st_patricks_day.jpg
END:VEVENT
BEGIN:VEVENT
DTSTART;TZID=America/New_York:20260317T080000
DTEND;TZID=America/New_York:20260405T170000
DTSTAMP:20260423T190610
CREATED:20260317T172052Z
LAST-MODIFIED:20260317T175026Z
UID:3564-1773734400-1775408400@hackettstownbid.com
SUMMARY:Sponsor a Parking Lot Sign
DESCRIPTION:ONLY 3 LEFT!- 2 ON HIGH STREET (RTE517) and 1 ON THE CORNER OF PLANE AND MAIN STREET- first come first served. \nThe Hackettstown Business Improvement District (BID) is excited to announce an opportunity for local businesses or organizations to enhance our community and gain visibility! \n We are upgrading the bottom halves of seven Municipal Parking Lot Signs in Hackettstown\, aiming to not only beautify our town but also to recognize our annual sponsors by displaying their logos prominently on the right side of the signs. Additionally\, we will refresh event signs on the left side. \nFor just $1\,000\, your logo will shine on the bottom of both sides of a sign for a full FOUR YEARS! Act quickly—there are only FOUR SIGNS LEFT\, making this a first-come\, first-served chance to secure your ideal location. Each sign can feature up to two logos per side\, so don’t miss out on this chance to gain exposure and support our vibrant community! \n  \nPlease email socialmedia@hackettstownbid.com for more info
URL:https://hackettstownbid.com/event/sponsor-a-parking-lot-sign/
CATEGORIES:BID Happenings
ATTACH;FMTTYPE=image/jpeg:https://hackettstownbid.com/wp-content/uploads/YOUR-LOGO-HERE-2-1.jpg
END:VEVENT
BEGIN:VEVENT
DTSTART;TZID=America/New_York:20260318T080000
DTEND;TZID=America/New_York:20260606T170000
DTSTAMP:20260423T190610
CREATED:20240430T190555Z
LAST-MODIFIED:20260318T173503Z
UID:1579-1773820800-1780765200@hackettstownbid.com
SUMMARY:Adopt a Pot or Hanging Flowers
DESCRIPTION:Adopt a Planter For Your Family\, Business\, Cause\, or Someone You Love!  \n$50 An ornamental sign will be hung on light posts between the planters with your name\, business or tribute. \n$40 Large planters will be placed on sidewalks throughout Hackettstown. A custom sign will be placed inside. \nPlants and tributes will be displayed in May and will remain until Fall \nCOMPLETE THIS FORM TO ORDER \nPayment can be made below or by check to Hackettstown BID\, 219 Main Street\, Hackettstown\, NJ 07840 \ncall 908-850-5004 OR email  SOCIALMEDIA@HACKETTSTOWNBID.COM \n Limited availability\, so reply ASAP.. \n\n            SPECIAL BUNDLE DEAL Adopt 1 Large Summer Pot\, 1 Large Fall Pot\, and 1 Holiday Wreath on Post with a custom sign.*$100** (Save **$20 ABOVE) \nor Adopt 1 Summer Pair of Pots on Post\, 1 Large Fall Pot\, and 1 Holiday Wreath on Post with a custom sign. *$110** (Save **$20** BELOW)
URL:https://hackettstownbid.com/event/adopt-a-planter/
CATEGORIES:BID Happenings
ATTACH;FMTTYPE=image/jpeg:https://hackettstownbid.com/wp-content/uploads/IMG_8198.jpg
END:VEVENT
BEGIN:VEVENT
DTSTART;TZID=America/New_York:20260427T180000
DTEND;TZID=America/New_York:20260427T190000
DTSTAMP:20260423T190610
CREATED:20260205T203642Z
LAST-MODIFIED:20260218T171314Z
UID:3462-1777312800-1777316400@hackettstownbid.com
SUMMARY:Speaker Series
DESCRIPTION:April 2026 Speaker Series Les Moore Sanico
URL:https://hackettstownbid.com/event/speaker-series-2/
LOCATION:BID Office\, 219 Main Street\, Hackettstown\, NJ\, 07840\, United States
CATEGORIES:BID Happenings
ATTACH;FMTTYPE=application/pdf:https://hackettstownbid.com/wp-content/uploads/April-2026-Speaker-Series-Les-Moore-Sanico.pdf
END:VEVENT
BEGIN:VEVENT
DTSTART;TZID=America/New_York:20260429T173000
DTEND;TZID=America/New_York:20260429T213000
DTSTAMP:20260423T190610
CREATED:20240212T184640Z
LAST-MODIFIED:20260423T150841Z
UID:1286-1777483800-1777498200@hackettstownbid.com
SUMMARY:Business Appreciation Awards Dinner
DESCRIPTION:Join us to celebrate the Business Appreciation Awards Dinner Honorees at David’s Country Inn! \nWednesday April 29th 5:30 PM- RSVP BY April 15th \n*Business of the Year: Marley’s Gotham Grill \n*Business Person of the Year: Terri Rintz \n(Centerpoint Wellness) \n*Rookie of the Year: Delloons Balloon Boutique \n*Community Partner: Classic Ballroom Dance Studio \n*Volunteer of the Year: Melissa Maney \n* Special Awards: \n*Community Champion: Bert Baron \n*Collaborator of the Year: Kelsey Walter \n(Greene’s Beans Cafe)
URL:https://hackettstownbid.com/event/business-appreciation-awards-dinner/
LOCATION:David’s Country Inn
CATEGORIES:BID Happenings
ATTACH;FMTTYPE=image/jpeg:https://hackettstownbid.com/wp-content/uploads/FINAL-1-2026-HONOREES-8-×-11-in.jpg
END:VEVENT
BEGIN:VEVENT
DTSTART;TZID=America/New_York:20260505T170000
DTEND;TZID=America/New_York:20260505T200000
DTSTAMP:20260423T190610
CREATED:20260406T202626Z
LAST-MODIFIED:20260406T202922Z
UID:3598-1778000400-1778011200@hackettstownbid.com
SUMMARY:Warren County Small Business Appreciation
DESCRIPTION:Questions or RSVP tourism@co.warren.nj.us
URL:https://hackettstownbid.com/event/warren-county-small-business-appreciation/
LOCATION:Man Skirt Brewing\, 144 Main St\, Hackettstown\, NJ\, 07840\, United States
CATEGORIES:BID Happenings,Community Calendar
ATTACH;FMTTYPE=image/jpeg:https://hackettstownbid.com/wp-content/uploads/2026-Small-Business-Week-Celebration-FINAL-.jpg
END:VEVENT
BEGIN:VEVENT
DTSTART;VALUE=DATE:20260516
DTEND;VALUE=DATE:20260517
DTSTAMP:20260423T190610
CREATED:20231229T163124Z
LAST-MODIFIED:20260409T161437Z
UID:831-1778889600-1778975999@hackettstownbid.com
SUMMARY:Maifest
DESCRIPTION:Join us for Maifest in Hackettstown. This is the traditional German celebration of the arrival of spring! Various businesses will host a diverse range of live entertainment\, activities\, cuisine\, craft spirits and beers. Enjoy the roaming Oompah band Peter and the Wolf-gang\, as well as traditional Maypole dancers. Browse our local business specials. Support your local shops\, eateries\, distillery & beer brewers during the 2026 Hackettstown Maifest celebration! \nTHANK YOU TO OUR GENEROUS SPONSORS: Mars Wrigley\, John Johnson Auto Group\, Delloons\, Classic Ballroom Dance Studio\, Bright Smiles 4 Kids\, SANICO\, Vermella Hackettstown\, Buddy’s Auto Repair\, EuroDeli2Go\, David’s Country Inn\, Stuber Insurance\, Explore Warren\, Fulton Bank\, Valley Bank\, Maguire Memorial Home\, Team Car Wash\, Wrnj \n 
URL:https://hackettstownbid.com/bid-happenings/maifest/
CATEGORIES:BID Happenings
ATTACH;FMTTYPE=image/png:https://hackettstownbid.com/wp-content/uploads/MAIFEST.png
END:VEVENT
BEGIN:VEVENT
DTSTART;TZID=America/New_York:20260527T130000
DTEND;TZID=America/New_York:20260527T130000
DTSTAMP:20260423T190610
CREATED:20260115T160831Z
LAST-MODIFIED:20260414T165747Z
UID:3342-1779886800-1779886800@hackettstownbid.com
SUMMARY:2026 HACKETTSTOWN AREA SENIOR HALL OF FAME RECEPTION
DESCRIPTION:The Hackettstown Area Senior Hall of Fame was established in 1997 to recognize senior citizens in the Northwest New Jersey region who have made a significant impact on the lives of others in the community. The Senior Hall of Fame honorees are recognized during a celebration luncheon and ceremony in May\, which is Older Americans Month. This year’s luncheon will be held on Wednesday\, May 27th at David’s Country Inn in Hackettstown.  \nThe Hackettstown Area Senior Hall of Fame has inducted 274 members since its inception. This roster includes individuals from Warren County and adjacent parts of Hunterdon\, Morris and Sussex counties. We believe senior citizens are a vital group who contribute a great deal to their communities and society\, and we are honored to recognize those who have gone above and beyond in service to others. \nWe are happy to announce the  Class of 2026 Senior Hall of Fame.\n\nCarol and Bruce Hawthorne\nJames “Jim” Taylor\nElizabeth “Betsy” Hart & Dale Hart\nJosephine Noone\nFrancis X. Gavin\nRoyal and Ellen Nadeau\nAnn LaPadula\nMaria DiGiovanni\nAgnes Burke\nIndividuals who are 60 years of age or older as of January 1\, 2026\, are eligible to be nominated to the Senior Hall of Fame. Nominations will be accepted beginning January 12\, 2026\, and must be received by  Friday\, February 27 in order to be considered (no exceptions for late entries). A selection committee of current Senior Hall of Fame members along with local business leaders\, and representatives of the Hackettstown BID staff and Board of Trustees\, will review all nominations and decide the Senior Hall of Fame Class of 2026!  \nNOMINATIONS WERE DUE BY Friday\, February 27\, 2026!  \nPurchase TicketLuncheon Registration and Reservation FormYour Sponsorship Support Keeps This Event Afloat! \nChampion Sponsor – $2\,000\n▪ Champion sponsorship recognition in welcoming remarks\n▪ Champion sponsorship recognition in all pre-event publicity including press release\n▪Champion sponsorship recognition in all advertising\, printed materials\, website\, social media\,\nand day of event signage\n▪ Full page ad in event program\n▪ Eight tickets to awards luncheon \nStar Sponsor – $1\,000\n▪ Star sponsorship recognition in welcoming remarks\n▪ Star sponsorship recognition in all advertising\, printed materials\, website\, social media\, and\nday of event signage\n▪ Half page ad in event program\n▪ Four tickets to awards luncheon \nHero Sponsor – $500\n▪ Hero sponsorship recognition in welcoming remarks\n▪ Hero recognition in all printed materials including day of event signage\n▪ Quarter page in event program\n▪ Two tickets to awards luncheon \nFriend Sponsor – $100\n▪ Recognized as Senior Hall of Fame Friend Sponsor during reception luncheon\n▪ Listing in the Senior Hall of Fame table program\nProgram (Full Color) ****Ad deadline is April 19th***\n▪ Full Page – $300 (4.5” wide x 8” high)\n▪ Half Page – $200 (4.5” wide x 4” high)\n▪ Quarter Page – $150 (2.25” wide x 4” high) \nSPONSORSHIP FORM  \nTickets\n▪ Senior Hall of Fame Members – $40\n▪ General Tickets – other guests – $50 \nFor more information or questions\, please contact Laurie Rapisardi direector@hackettstownbid.com \ndirector@hackettstownbid.com | 908-850-5004
URL:https://hackettstownbid.com/event/2026-hackettstown-area-senior-hall-of-fame-guidelines-nomination-form/
LOCATION:David’s Country Inn
CATEGORIES:BID Happenings
ATTACH;FMTTYPE=image/png:https://hackettstownbid.com/wp-content/uploads/unnamed-24.png
END:VEVENT
BEGIN:VEVENT
DTSTART;VALUE=DATE:20260606
DTEND;VALUE=DATE:20260607
DTSTAMP:20260423T190610
CREATED:20240408T162659Z
LAST-MODIFIED:20260421T155223Z
UID:1512-1780704000-1780790399@hackettstownbid.com
SUMMARY:Hackettstown Community Day
DESCRIPTION: Hackettstown Community Day will take place on June 6\, 2026\, from 12:00-8:00PM with a rain date: Sunday\, June 7th\, from 12:00 PM to 6:00 PM.\nWe will feature a Mars Wrigley candy giveaway\, the Hackettstown Medical Center tent\, various games and activities\, food\, and vendors throughout the day. Join us for an Old Fashioned Country Fair. \nCelebrate America’s 250th and The World Cup Kick Off \n“Hackettstown’s Got Talent” sponsored by The Strand Studios \nRegistration Link for Talent Contest: \n“Dancing with the Local Stars” sponsored by Classic Ballroom Dance Studio \n*Loyalty Cards will be for sale and can be used at participating Hackettstown BID businesses for discounts and promotions. A QR code on the back of the card will indicate participating businesses and specials\, which will be updated throughout the year. \nWe hope to see you there! \nThis year’s event will be held at Hackettstown High School and the Hackettstown Recreation field\, Sheldon Field\, Warren St. \nEvents include: \n\nTalent Show\nDancing with the Local Stars Show\nMars Wrigley Candy Giveaway\nHackettstown Medical Center Tent\nGames and Contests\nActivities include a zip line\, Ninja Warrior obstacle course\, Toxic Melt Down Course\, Rockwall\, and Bunji Trampoline\nFood\nVendors\n\nVendors\n2026 COMMUNITY DAY FOOD VENDOR APPLICATION \n2026 COMMUNITY DAY VENDOR APPLICATION \n2026 HACKETTSTOWN’S GOT TALENT SIGN UPS \nFor sponsorship opportunities\, call the BID office at 908-850-5004 or email socialmedia@hackettstownbid.com. Any food vendors\, crafters\, exhibitors\, artists or performers who would like to participate are encouraged to contact the HKTWN BID office by phone or email socialmedia@hackettstownbid.com. \n2026 COMMUNITY DAY FOOD VENDOR FORM2026 COMMUNITY DAY VENDOR APPLICATION
URL:https://hackettstownbid.com/event/hackettstown-community-day/
LOCATION:Arthur Sheldon Rec Field\, 499 Warren Street\, Hackettstown\, NJ\, 07840\, United States
CATEGORIES:BID Happenings
ATTACH;FMTTYPE=image/jpeg:https://hackettstownbid.com/wp-content/uploads/HACKETTSTOWN-COMMUNITY-DAY.jpg
END:VEVENT
BEGIN:VEVENT
DTSTART;TZID=America/New_York:20260606T130000
DTEND;TZID=America/New_York:20260606T160000
DTSTAMP:20260423T190610
CREATED:20260414T173544Z
LAST-MODIFIED:20260414T173544Z
UID:3635-1780750800-1780761600@hackettstownbid.com
SUMMARY:Hackettstown's Got Talent
DESCRIPTION:Pre-Registration Required
URL:https://hackettstownbid.com/event/hackettstowns-got-talent/
LOCATION:Arthur Sheldon Rec Field\, 499 Warren Street\, Hackettstown\, NJ\, 07840\, United States
CATEGORIES:BID Happenings
ATTACH;FMTTYPE=image/jpeg:https://hackettstownbid.com/wp-content/uploads/Hackettstowns-Got-Talent-2026-scaled.jpg
END:VEVENT
BEGIN:VEVENT
DTSTART;VALUE=DATE:20260719
DTEND;VALUE=DATE:20260720
DTSTAMP:20260423T190610
CREATED:20240219T182703Z
LAST-MODIFIED:20260319T164903Z
UID:1295-1784419200-1784505599@hackettstownbid.com
SUMMARY:Street Fair
DESCRIPTION:Join us as we celebrate the annual Hackettstown Street Fair on Main Street. There will be over 100  Vendors including Artisans and Crafters\,  LIVE entertainment\, food and more! This event is family-friendly right on Main St. \nVisitors are invited to experience the vendors\, live performances throughout the day\, kids’ area\, and local shopping. This event offers a bit of something for everyone! Admission is FREE! \nJuly 19\, 2026  Rain Date July 26 \nIf you are an artist or crafter and would like to be a vendor\, please sign up at https://www.marketspacevendorevents.com/2026events  \nHackettstown BID Businesses sign up https://www.marketspacevendorevents.com/hackettstown-signup \nThank you to our Generous Sponsors:\nMars Wrigley\nDelloons Balloon Boutique\nLiquid Local Media\nJohn Johnson Automotive Group\nBright Smiles 4 Kids\nSanico\nBuddy’s Auto Repair\nVermella Hackettstown\nClassic Ballroom Dance Studio\nAtlantic Health – Hackettstown Medical Center\nEuro Deli 2 Go\nExplore Warren\nMaguire Memorial Home\, Inc.\nStuber Insurance Agency\nValley Bank\nFulton Bank\nWrnj\nMarketspace Vendor Events
URL:https://hackettstownbid.com/event/street-fair/
CATEGORIES:BID Happenings
ATTACH;FMTTYPE=image/jpeg:https://hackettstownbid.com/wp-content/uploads/street-fair-logo-e1708367351519.jpg
END:VEVENT
END:VCALENDAR