BEGIN:VCALENDAR
VERSION:2.0
PRODID:-//Hackettstown BID - ECPv6.15.20//NONSGML v1.0//EN
CALSCALE:GREGORIAN
METHOD:PUBLISH
X-WR-CALNAME:Hackettstown BID
X-ORIGINAL-URL:https://hackettstownbid.com
X-WR-CALDESC:Events for Hackettstown BID
REFRESH-INTERVAL;VALUE=DURATION:PT1H
X-Robots-Tag:noindex
X-PUBLISHED-TTL:PT1H
BEGIN:VTIMEZONE
TZID:America/New_York
BEGIN:DAYLIGHT
TZOFFSETFROM:-0500
TZOFFSETTO:-0400
TZNAME:EDT
DTSTART:20250309T070000
END:DAYLIGHT
BEGIN:STANDARD
TZOFFSETFROM:-0400
TZOFFSETTO:-0500
TZNAME:EST
DTSTART:20251102T060000
END:STANDARD
BEGIN:DAYLIGHT
TZOFFSETFROM:-0500
TZOFFSETTO:-0400
TZNAME:EDT
DTSTART:20260308T070000
END:DAYLIGHT
BEGIN:STANDARD
TZOFFSETFROM:-0400
TZOFFSETTO:-0500
TZNAME:EST
DTSTART:20261101T060000
END:STANDARD
BEGIN:DAYLIGHT
TZOFFSETFROM:-0500
TZOFFSETTO:-0400
TZNAME:EDT
DTSTART:20270314T070000
END:DAYLIGHT
BEGIN:STANDARD
TZOFFSETFROM:-0400
TZOFFSETTO:-0500
TZNAME:EST
DTSTART:20271107T060000
END:STANDARD
END:VTIMEZONE
BEGIN:VEVENT
DTSTART;TZID=America/New_York:20260318T080000
DTEND;TZID=America/New_York:20260606T170000
DTSTAMP:20260423T110051
CREATED:20240430T190555Z
LAST-MODIFIED:20260318T173503Z
UID:1579-1773820800-1780765200@hackettstownbid.com
SUMMARY:Adopt a Pot or Hanging Flowers
DESCRIPTION:Adopt a Planter For Your Family\, Business\, Cause\, or Someone You Love!  \n$50 An ornamental sign will be hung on light posts between the planters with your name\, business or tribute. \n$40 Large planters will be placed on sidewalks throughout Hackettstown. A custom sign will be placed inside. \nPlants and tributes will be displayed in May and will remain until Fall \nCOMPLETE THIS FORM TO ORDER \nPayment can be made below or by check to Hackettstown BID\, 219 Main Street\, Hackettstown\, NJ 07840 \ncall 908-850-5004 OR email  SOCIALMEDIA@HACKETTSTOWNBID.COM \n Limited availability\, so reply ASAP.. \n\n            SPECIAL BUNDLE DEAL Adopt 1 Large Summer Pot\, 1 Large Fall Pot\, and 1 Holiday Wreath on Post with a custom sign.*$100** (Save **$20 ABOVE) \nor Adopt 1 Summer Pair of Pots on Post\, 1 Large Fall Pot\, and 1 Holiday Wreath on Post with a custom sign. *$110** (Save **$20** BELOW)
URL:https://hackettstownbid.com/event/adopt-a-planter/
LOCATION:NJ
CATEGORIES:BID Happenings
ATTACH;FMTTYPE=image/jpeg:https://hackettstownbid.com/wp-content/uploads/IMG_8198.jpg
END:VEVENT
BEGIN:VEVENT
DTSTART;TZID=America/New_York:20260527T130000
DTEND;TZID=America/New_York:20260527T130000
DTSTAMP:20260423T110051
CREATED:20260115T160831Z
LAST-MODIFIED:20260414T165747Z
UID:3342-1779886800-1779886800@hackettstownbid.com
SUMMARY:2026 HACKETTSTOWN AREA SENIOR HALL OF FAME RECEPTION
DESCRIPTION:The Hackettstown Area Senior Hall of Fame was established in 1997 to recognize senior citizens in the Northwest New Jersey region who have made a significant impact on the lives of others in the community. The Senior Hall of Fame honorees are recognized during a celebration luncheon and ceremony in May\, which is Older Americans Month. This year’s luncheon will be held on Wednesday\, May 27th at David’s Country Inn in Hackettstown.  \nThe Hackettstown Area Senior Hall of Fame has inducted 274 members since its inception. This roster includes individuals from Warren County and adjacent parts of Hunterdon\, Morris and Sussex counties. We believe senior citizens are a vital group who contribute a great deal to their communities and society\, and we are honored to recognize those who have gone above and beyond in service to others. \nWe are happy to announce the  Class of 2026 Senior Hall of Fame.\n\nCarol and Bruce Hawthorne\nJames “Jim” Taylor\nElizabeth “Betsy” Hart & Dale Hart\nJosephine Noone\nFrancis X. Gavin\nRoyal and Ellen Nadeau\nAnn LaPadula\nMaria DiGiovanni\nAgnes Burke\nIndividuals who are 60 years of age or older as of January 1\, 2026\, are eligible to be nominated to the Senior Hall of Fame. Nominations will be accepted beginning January 12\, 2026\, and must be received by  Friday\, February 27 in order to be considered (no exceptions for late entries). A selection committee of current Senior Hall of Fame members along with local business leaders\, and representatives of the Hackettstown BID staff and Board of Trustees\, will review all nominations and decide the Senior Hall of Fame Class of 2026!  \nNOMINATIONS WERE DUE BY Friday\, February 27\, 2026!  \nPurchase TicketLuncheon Registration and Reservation FormYour Sponsorship Support Keeps This Event Afloat! \nChampion Sponsor – $2\,000\n▪ Champion sponsorship recognition in welcoming remarks\n▪ Champion sponsorship recognition in all pre-event publicity including press release\n▪Champion sponsorship recognition in all advertising\, printed materials\, website\, social media\,\nand day of event signage\n▪ Full page ad in event program\n▪ Eight tickets to awards luncheon \nStar Sponsor – $1\,000\n▪ Star sponsorship recognition in welcoming remarks\n▪ Star sponsorship recognition in all advertising\, printed materials\, website\, social media\, and\nday of event signage\n▪ Half page ad in event program\n▪ Four tickets to awards luncheon \nHero Sponsor – $500\n▪ Hero sponsorship recognition in welcoming remarks\n▪ Hero recognition in all printed materials including day of event signage\n▪ Quarter page in event program\n▪ Two tickets to awards luncheon \nFriend Sponsor – $100\n▪ Recognized as Senior Hall of Fame Friend Sponsor during reception luncheon\n▪ Listing in the Senior Hall of Fame table program\nProgram (Full Color) ****Ad deadline is April 19th***\n▪ Full Page – $300 (4.5” wide x 8” high)\n▪ Half Page – $200 (4.5” wide x 4” high)\n▪ Quarter Page – $150 (2.25” wide x 4” high) \nSPONSORSHIP FORM  \nTickets\n▪ Senior Hall of Fame Members – $40\n▪ General Tickets – other guests – $50 \nFor more information or questions\, please contact Laurie Rapisardi direector@hackettstownbid.com \ndirector@hackettstownbid.com | 908-850-5004
URL:https://hackettstownbid.com/event/2026-hackettstown-area-senior-hall-of-fame-guidelines-nomination-form/
LOCATION:David’s Country Inn
CATEGORIES:BID Happenings
ATTACH;FMTTYPE=image/png:https://hackettstownbid.com/wp-content/uploads/unnamed-24.png
END:VEVENT
END:VCALENDAR