BEGIN:VCALENDAR
VERSION:2.0
PRODID:-//Hackettstown BID - ECPv6.15.20//NONSGML v1.0//EN
CALSCALE:GREGORIAN
METHOD:PUBLISH
X-WR-CALNAME:Hackettstown BID
X-ORIGINAL-URL:https://hackettstownbid.com
X-WR-CALDESC:Events for Hackettstown BID
REFRESH-INTERVAL;VALUE=DURATION:PT1H
X-Robots-Tag:noindex
X-PUBLISHED-TTL:PT1H
BEGIN:VTIMEZONE
TZID:America/New_York
BEGIN:DAYLIGHT
TZOFFSETFROM:-0500
TZOFFSETTO:-0400
TZNAME:EDT
DTSTART:20250309T070000
END:DAYLIGHT
BEGIN:STANDARD
TZOFFSETFROM:-0400
TZOFFSETTO:-0500
TZNAME:EST
DTSTART:20251102T060000
END:STANDARD
BEGIN:DAYLIGHT
TZOFFSETFROM:-0500
TZOFFSETTO:-0400
TZNAME:EDT
DTSTART:20260308T070000
END:DAYLIGHT
BEGIN:STANDARD
TZOFFSETFROM:-0400
TZOFFSETTO:-0500
TZNAME:EST
DTSTART:20261101T060000
END:STANDARD
BEGIN:DAYLIGHT
TZOFFSETFROM:-0500
TZOFFSETTO:-0400
TZNAME:EDT
DTSTART:20270314T070000
END:DAYLIGHT
BEGIN:STANDARD
TZOFFSETFROM:-0400
TZOFFSETTO:-0500
TZNAME:EST
DTSTART:20271107T060000
END:STANDARD
END:VTIMEZONE
BEGIN:VEVENT
DTSTART;TZID=America/New_York:20260117T120000
DTEND;TZID=America/New_York:20260117T143000
DTSTAMP:20260423T151046
CREATED:20260109T185125Z
LAST-MODIFIED:20260109T185516Z
UID:3321-1768651200-1768660200@hackettstownbid.com
SUMMARY:Ribbon Cutting Mythic Earth Gaming Hall
DESCRIPTION:We will start the new year in style with the official Grand Opening of the brand-new Mythic Earth Gaming Hall\, part of Mythicos Studios at 139 Main Street. Mythicos is both an event space and a retail business serving over 24\,000 gamers in the US. The ribbon cutting will be at 12 pm on Saturday\, January 17th. \nWe are all looking forward to a ton of gaming\, painting classes\, and events in the new Gaming Hall.
URL:https://hackettstownbid.com/event/3321/
LOCATION:NJ
CATEGORIES:BID Happenings
ATTACH;FMTTYPE=image/png:https://hackettstownbid.com/wp-content/uploads/Screenshot-2026-01-09-at-1.18.17-PM-1.png
END:VEVENT
END:VCALENDAR