BEGIN:VCALENDAR
VERSION:2.0
PRODID:-//Hackettstown BID - ECPv6.15.20//NONSGML v1.0//EN
CALSCALE:GREGORIAN
METHOD:PUBLISH
X-ORIGINAL-URL:https://hackettstownbid.com
X-WR-CALDESC:Events for Hackettstown BID
REFRESH-INTERVAL;VALUE=DURATION:PT1H
X-Robots-Tag:noindex
X-PUBLISHED-TTL:PT1H
BEGIN:VTIMEZONE
TZID:America/New_York
BEGIN:DAYLIGHT
TZOFFSETFROM:-0500
TZOFFSETTO:-0400
TZNAME:EDT
DTSTART:20240310T070000
END:DAYLIGHT
BEGIN:STANDARD
TZOFFSETFROM:-0400
TZOFFSETTO:-0500
TZNAME:EST
DTSTART:20241103T060000
END:STANDARD
BEGIN:DAYLIGHT
TZOFFSETFROM:-0500
TZOFFSETTO:-0400
TZNAME:EDT
DTSTART:20250309T070000
END:DAYLIGHT
BEGIN:STANDARD
TZOFFSETFROM:-0400
TZOFFSETTO:-0500
TZNAME:EST
DTSTART:20251102T060000
END:STANDARD
BEGIN:DAYLIGHT
TZOFFSETFROM:-0500
TZOFFSETTO:-0400
TZNAME:EDT
DTSTART:20260308T070000
END:DAYLIGHT
BEGIN:STANDARD
TZOFFSETFROM:-0400
TZOFFSETTO:-0500
TZNAME:EST
DTSTART:20261101T060000
END:STANDARD
BEGIN:DAYLIGHT
TZOFFSETFROM:-0500
TZOFFSETTO:-0400
TZNAME:EDT
DTSTART:20270314T070000
END:DAYLIGHT
BEGIN:STANDARD
TZOFFSETFROM:-0400
TZOFFSETTO:-0500
TZNAME:EST
DTSTART:20271107T060000
END:STANDARD
END:VTIMEZONE
BEGIN:VEVENT
DTSTART;TZID=America/New_York:20251231T200000
DTEND;TZID=America/New_York:20260101T020000
DTSTAMP:20260423T145913
CREATED:20231229T164312Z
LAST-MODIFIED:20251231T200149Z
UID:845-1767211200-1767232800@hackettstownbid.com
SUMMARY:New Years Eve
DESCRIPTION:Hackettstown’s Third Annual New Year’s Eve Blast Featuring An M&M’S® “Ball Drop” At Midnight  \nHackettstown\, NJ – The Town of Hackettstown\, the Hackettstown Police Department\, Mars Wrigley\, and the Hackettstown Business Improvement District are prepping for its third annual New Year’s Eve Blast with an M&M’S® ball drop at midnight. \nThis year’s festivities will take place in the heart of Downtown Hackettstown from 8 pm to 12:15 am\, and it will be a night to remember. \nCome experience Hackettstown’s extensive restaurant scene\, small businesses\, and support your local breweries and distillery this New Years. \nVISIT THESE BUSINESSES OPEN on NYE \n\nMarley’s Gotham Grille\nLiving Spirits Distillery-10 PM-1 AM-DJ Alyssa / $241 Reasons spinning beats\nMan Skirt Brewing  open 8-1130 Jukebox Trio live.  $10 cover after 8  pm\nCzig Meister Brewing Co.-3:00 PM – 11:30 PM Enjoy live music all night long with The Jungle Jazz Initiative\, plus special mystery guests. $15 cover charge begins at 7:00 PM⁠.\nShoppes at Luces\nDavila’s Pizza & Catering- Open until 10 pm\nKilhaney’s Pickle-Pickles on a stick and Pickle Trays available.\nSizzle BBQ-Open un until 1 am. Reservation suggested.\nThe G & G Big Closet\nMamas Cafe Baci -Open until 10 pm\nTracey’s Candy-Open 8-midnight\nJames on Main -Open until 10. Reservations required.\nOnce Upon a Theme-Doors open at 9 pm. Watch the ball drop from our 2nd floor window while warm and dancing with DJ Fitz. Call (908) 366-4233 to reserve. BYOB allowed.\nEuro Deli 2 Go\nMazur Cafe & Chocolate Lab\nThe Tucan\n\nEntertainment Stage (Main Street & High Street) \n\n\n\n\n11-year-old Giana Pichardo from Hackettstown will perform the National Anthem at 8 pm.\nJoe Racz and the Brawlstars (8 pm to 12:15 pm).\nHackettstown High School Cheerleading (9 pm to 11 pm)\nTiger Cheer Association (9 pm to 10 pm)\nKeep checking back for more!\n\nLive Stream\n\n\n\n\nIf you’re unable to attend the New Year’s Eve Blast\, the event will be streamed live from 8 p.m. to 12:15 a.m. on Facebook and YouTube. Be sure to follow “Town of Hackettstown” on Facebook and subscribe to the town’s official YouTube page to catch all the action. \nKids Zone (Grand Avenue between Main Street & Washington Street\, From 8 pm to 11 pm)  \n\n\n\n\nTake a picture in a giant Snow Globe\nCow Train ride\nStiltwalker (9 pm to 12 am)\nFace Painter\nGame Trailer\nSelfie Station\nHackettstown Bid selling NYE merchandise\nKeep checking back for more!Free Giveaways (While Supplies Last)\n\n\n\n\n\nWRNJ Radio\nHackettstown Stormwater Management\nMars Wrigley\nAtlantic Health\n\n\n\n\n\n\n\nROAD CLOSURES \, PARKING\, REST ROOMS AND MORE INFO HERE
URL:https://hackettstownbid.com/event/new-years-eve/
LOCATION:NJ
CATEGORIES:BID Happenings
ATTACH;FMTTYPE=image/png:https://hackettstownbid.com/wp-content/uploads/2026-NYE.png
END:VEVENT
END:VCALENDAR