BEGIN:VCALENDAR
VERSION:2.0
PRODID:-//Hackettstown BID - ECPv6.15.20//NONSGML v1.0//EN
CALSCALE:GREGORIAN
METHOD:PUBLISH
X-WR-CALNAME:Hackettstown BID
X-ORIGINAL-URL:https://hackettstownbid.com
X-WR-CALDESC:Events for Hackettstown BID
REFRESH-INTERVAL;VALUE=DURATION:PT1H
X-Robots-Tag:noindex
X-PUBLISHED-TTL:PT1H
BEGIN:VTIMEZONE
TZID:America/New_York
BEGIN:DAYLIGHT
TZOFFSETFROM:-0500
TZOFFSETTO:-0400
TZNAME:EDT
DTSTART:20240310T070000
END:DAYLIGHT
BEGIN:STANDARD
TZOFFSETFROM:-0400
TZOFFSETTO:-0500
TZNAME:EST
DTSTART:20241103T060000
END:STANDARD
BEGIN:DAYLIGHT
TZOFFSETFROM:-0500
TZOFFSETTO:-0400
TZNAME:EDT
DTSTART:20250309T070000
END:DAYLIGHT
BEGIN:STANDARD
TZOFFSETFROM:-0400
TZOFFSETTO:-0500
TZNAME:EST
DTSTART:20251102T060000
END:STANDARD
BEGIN:DAYLIGHT
TZOFFSETFROM:-0500
TZOFFSETTO:-0400
TZNAME:EDT
DTSTART:20260308T070000
END:DAYLIGHT
BEGIN:STANDARD
TZOFFSETFROM:-0400
TZOFFSETTO:-0500
TZNAME:EST
DTSTART:20261101T060000
END:STANDARD
END:VTIMEZONE
BEGIN:VEVENT
DTSTART;TZID=America/New_York:20250911T100000
DTEND;TZID=America/New_York:20251210T170000
DTSTAMP:20260423T182512
CREATED:20240806T154234Z
LAST-MODIFIED:20251202T170054Z
UID:1778-1757584800-1765386000@hackettstownbid.com
SUMMARY:Adopt a Holiday Wreath
DESCRIPTION:Adopt a Fall Flower Pot. An ornamental sign will be placed in the pot with your name\, business\, logo\, tribute-or any combination. $30 \nAdopt a Holiday Wreath. An ornamental sign will hang with your name\, business\, logo\, tribute-or any combination. $50 \n-$70 Adopt Both save $10 \nLimited amounts available. \nEmail socialmedia@hackettstownbid.com with whatever you would like your sign to say\, or if you would like to pay by check. \nORDER FORM
URL:https://hackettstownbid.com/event/adopt-a-holiday-wreath/
LOCATION:NJ
CATEGORIES:BID Happenings
ATTACH;FMTTYPE=image/jpeg:https://hackettstownbid.com/wp-content/uploads/IMG_2177-scaled.jpg
END:VEVENT
BEGIN:VEVENT
DTSTART;TZID=America/New_York:20251006T080000
DTEND;TZID=America/New_York:20251110T170000
DTSTAMP:20260423T182512
CREATED:20240829T185500Z
LAST-MODIFIED:20251106T162924Z
UID:1840-1759737600-1762794000@hackettstownbid.com
SUMMARY:Scarecrow Contest and Selfie Contest
DESCRIPTION:Hackettstown BID businesses wishing to participate will create a scarecrow to be displayed outside their business. Please notify the HBID no later than October 1\, 2025 with your design idea. Scarecrows need to be in place by October 6\, and removed by November 3. \nTHEME: MUSIC-BAND PERFORMER \nFeet N Beyond 188 Mountain Avenue-Footloose Scarecrow celebrates the freedom and joy of being able to kick off your shoes and dance pain-free! \nThe Gold Mine.-176 Main St. Animal from the Muppets\, he is in a band called\, Dr. Teeth and the Electric Mayhem\, he is the drummer. \nEXIT Realty Connections 149 Main Street Alvin and the Chipmunks \nKM Salon and Loft  110 E. Plane St.- Stevie Nicks \nCentenary University SGA – Cyclone-In front of the BID Office 219 Main St \nMaguire Memorial Home-Elvis -In front of the BID Office 219 Main St \n Hackettstown Moose Lodge Chapter -263 Main St-Ozzy Osbourne \nGreene’s Beans Cafe-313 High St. Jack Skellington sings This is Halloween! \nBE CREATIVE AND HAVE FUN. Every scarecrow must contain the basic characteristics of a traditional scarecrow\, which include stuffing or hay that protrudes out of the hands\, head\, feet\, and neck. It cannot just be a mannequin in a costume! \nCONGRATULATIONS TO OUR WINNER-FEET N BEYOND! \n \nDATES:\n10/1 – The Hackettstown BID must be notified by the participating businesses of their scarecrow design via email socialmedia@hackettstownbid.com\n10/6– All Scarecrows placed in front of participating businesses \n10/8–Selfie Contest begins; Scarecrow Selfie Contest open to the public-Visitors are invited to take a “Selfie” with a scarecrow and email to socialmedia@hackettstownbid.com.  Facebook Album will be posted Nov 3rd. Winner will be determined by “likes” \, and will be contacted November 10th. Winner will receive BID BUCKS.(to be used in any participating Hackettstown Business)\nTag us (@hackettstownbid) in your photos on Instagram and Facebook! Happy strolling\, dining\, and shopping! \nPARTICIPATING BUSINESSES WILL BE POSTED \n10/25 HALLOWEEN DOWNTOWN-Parade\, Trick or Treating and Business Specials through town\n11/3 – Judging deadline\n11/10 – Winner announced on WRNJ\n11/8 – Deadline for scarecrows to be removed by all businesses
URL:https://hackettstownbid.com/event/scarecrow-contest-and-selfie-contest/
LOCATION:NJ
CATEGORIES:BID Happenings
ATTACH;FMTTYPE=image/png:https://hackettstownbid.com/wp-content/uploads/scarecrow-logo-1.png
END:VEVENT
END:VCALENDAR