BEGIN:VCALENDAR
VERSION:2.0
PRODID:-//Hackettstown BID - ECPv6.15.20//NONSGML v1.0//EN
CALSCALE:GREGORIAN
METHOD:PUBLISH
X-ORIGINAL-URL:https://hackettstownbid.com
X-WR-CALDESC:Events for Hackettstown BID
REFRESH-INTERVAL;VALUE=DURATION:PT1H
X-Robots-Tag:noindex
X-PUBLISHED-TTL:PT1H
BEGIN:VTIMEZONE
TZID:America/New_York
BEGIN:DAYLIGHT
TZOFFSETFROM:-0500
TZOFFSETTO:-0400
TZNAME:EDT
DTSTART:20240310T070000
END:DAYLIGHT
BEGIN:STANDARD
TZOFFSETFROM:-0400
TZOFFSETTO:-0500
TZNAME:EST
DTSTART:20241103T060000
END:STANDARD
BEGIN:DAYLIGHT
TZOFFSETFROM:-0500
TZOFFSETTO:-0400
TZNAME:EDT
DTSTART:20250309T070000
END:DAYLIGHT
BEGIN:STANDARD
TZOFFSETFROM:-0400
TZOFFSETTO:-0500
TZNAME:EST
DTSTART:20251102T060000
END:STANDARD
BEGIN:DAYLIGHT
TZOFFSETFROM:-0500
TZOFFSETTO:-0400
TZNAME:EDT
DTSTART:20260308T070000
END:DAYLIGHT
BEGIN:STANDARD
TZOFFSETFROM:-0400
TZOFFSETTO:-0500
TZNAME:EST
DTSTART:20261101T060000
END:STANDARD
BEGIN:DAYLIGHT
TZOFFSETFROM:-0500
TZOFFSETTO:-0400
TZNAME:EDT
DTSTART:20270314T070000
END:DAYLIGHT
BEGIN:STANDARD
TZOFFSETFROM:-0400
TZOFFSETTO:-0500
TZNAME:EST
DTSTART:20271107T060000
END:STANDARD
END:VTIMEZONE
BEGIN:VEVENT
DTSTART;TZID=America/New_York:20250911T100000
DTEND;TZID=America/New_York:20251210T170000
DTSTAMP:20260423T151624
CREATED:20240806T154234Z
LAST-MODIFIED:20251202T170054Z
UID:1778-1757584800-1765386000@hackettstownbid.com
SUMMARY:Adopt a Holiday Wreath
DESCRIPTION:Adopt a Fall Flower Pot. An ornamental sign will be placed in the pot with your name\, business\, logo\, tribute-or any combination. $30 \nAdopt a Holiday Wreath. An ornamental sign will hang with your name\, business\, logo\, tribute-or any combination. $50 \n-$70 Adopt Both save $10 \nLimited amounts available. \nEmail socialmedia@hackettstownbid.com with whatever you would like your sign to say\, or if you would like to pay by check. \nORDER FORM
URL:https://hackettstownbid.com/event/adopt-a-holiday-wreath/
LOCATION:NJ
CATEGORIES:BID Happenings
ATTACH;FMTTYPE=image/jpeg:https://hackettstownbid.com/wp-content/uploads/IMG_2177-scaled.jpg
END:VEVENT
BEGIN:VEVENT
DTSTART;TZID=America/New_York:20251119T080000
DTEND;TZID=America/New_York:20251224T170000
DTSTAMP:20260423T151624
CREATED:20241204T160217Z
LAST-MODIFIED:20251222T191227Z
UID:2074-1763539200-1766595600@hackettstownbid.com
SUMMARY:Deck the House
DESCRIPTION:Deck The House\nDrive through Hackettstown to see the beautifully decorated homes- guaranteed to put you in the Holiday spirit. Make it a night and hit one of Hackettstown’s awesome restaurants and breweries! \nEach neighborhood will have a winner chosen from a photo/video submissions (max 15 sec) \nBID BUCKS & LAWN SIGN GIVEN TO HOMES WHICH DISPLAY THE MOST ORIGINAL AND FESTIVE OUTDOOR HOLIDAY DECORATIONS \nCongratulations to our 2025 winners: \n\nWILLOW GROVE AREA-  83 Watch Hill Road\nWEST VALLEY VIEW/E.PROSPECT-516 West Valley View Ave\nCOLLEGE VIEW AREA-130 Deerfield Drive\nMITCHELL ROAD AREA-34 Lawrence Drive\nPEOPLE’S CHOICE -51 Lawrence Drive \n\n  \n 
URL:https://hackettstownbid.com/event/deck-the-house/
LOCATION:NJ
CATEGORIES:BID Happenings
ATTACH;FMTTYPE=image/jpeg:https://hackettstownbid.com/wp-content/uploads/2025-DECK-THE-HOUSE-.jpg
END:VEVENT
BEGIN:VEVENT
DTSTART;TZID=America/New_York:20251121T140000
DTEND;TZID=America/New_York:20251207T150000
DTSTAMP:20260423T151624
CREATED:20251112T163822Z
LAST-MODIFIED:20251121T145347Z
UID:3170-1763733600-1765119600@hackettstownbid.com
SUMMARY:Gingerbread Contest-REGISTER TODAY
DESCRIPTION:Get into the Holiday spirit  Sunday\, December 7  at 2 pm. All are welcome to view the houses & Vote for the People’s Choice \nCookies & hot cocoa will be served. \nREGISTER HERE BY NOVEMBER 21ST. \nGingerbread Contest Rules \n\n\nDrop off submission at 1pm  Visit @ 2pm \n~Only edible items are allowed as decorations (NO stickers\, plastic\, or paper\, cardboard\, or wood) \n\n\n~Non-edible items may ONLY be used to stabilize “inside” the gingerbread house for walls and roof. These include plastic forms\, foundation\, glue in the \n\n\nfrosting to hold walls and roof together etc. \n\n\n~The base (cardboard\, plastic\, baking sheet etc) of entry must be no larger than 18x 24 \n\n\n~Any additional structures (non-house walls\, fences\, trees\, people) must be made from edible materials
URL:https://hackettstownbid.com/event/gingerbread-contest/
LOCATION:Vermella Hackettstown\, 112 Bilby Road\, Hackettsown\, NJ\, 07840\, United States
CATEGORIES:BID Happenings
ATTACH;FMTTYPE=image/png:https://hackettstownbid.com/wp-content/uploads/Gingerbread-House-Contest-2025.png
END:VEVENT
BEGIN:VEVENT
DTSTART;TZID=America/New_York:20251205T170000
DTEND;TZID=America/New_York:20251207T210000
DTSTAMP:20260423T151624
CREATED:20240618T140722Z
LAST-MODIFIED:20251205T201914Z
UID:843-1764954000-1765141200@hackettstownbid.com
SUMMARY:Hometown Holiday Weekend
DESCRIPTION:The Hackettstown BID will host the Annual Hometown Holiday celebration! Look for all of your favorite activities and events! \nFriday\, December 5\, 2025  – 5-9 pm Local entertainment starts. Shopping and Food Tent 5-9 pm  Santa Parade at 7 pm. Tree Lighting at 7:30 pm. Look for family activities \n2025 Hometown Holiday Schedule of Events \n \nSaturday December 6th – \n\n12-4 pm Winter Wonderland and Selfies with Santa 12-4 pm at the Community Center.\nHoliday Music on Main St. 12-5 pm by DJ SC3.\n1-2pm NJ Civic Youth Ballet\nphoto ops with Nutcracker\, Clara & Fritz\n\n Sunday\, Dec 7 from 12pm-3pm. Kudos Barbershop Quartet will stroll and perform beginning at the BID office to Main Street businesses. They will perform regardless of weather.\nGingerbread House Decorating Contest at Vermella\, Hackettststown. Details will follow. \nEAT\, DRINK AND SHOP LOCALLY ALL WEEKEND! \nDeck The House\nDrive through Hackettstown to see the beautifully decorated homes- guaranteed to put you in the Holiday spirit. Make it a night and hit one of Hackettstown’s awesome restaurants and breweries! Let’s LIGHT UP Hackettstown!! Please contact our office if you have any questions. \nSponsors\nThank you to our Generous Sponsors: \nMars Wrigley\nClassic Ballroom Dance Studio\nDelloons\nJohn Johnson Automotive Group\nBright Smiles 4 Kids\nSanico\nBuddy’s Auto Repair\nAtlantic Health Systems Foundation for Hackettstown Medical Center\nExplore Warren\nMaguire Memorial Home\, Inc.\nStuber Insurance Agency\nFulton Bank\nNew Jersey Highlands\nStone Hedge Farm\nVermella Hackettstown\nState Farm\nHackettstown Rotary Club\nWrnj\nMade posible by funds from the NJ Council on the Arts\, a partner agency of the National Endowment for the Arts
URL:https://hackettstownbid.com/bid-happenings/hometown-holiday/
LOCATION:NJ
CATEGORIES:BID Happenings
ATTACH;FMTTYPE=application/pdf:https://hackettstownbid.com/wp-content/uploads/Hackettstown-hometown-Holiday-2025-Full-Schedule-version-2.pdf
END:VEVENT
BEGIN:VEVENT
DTSTART;TZID=America/New_York:20251210T180000
DTEND;TZID=America/New_York:20251210T213000
DTSTAMP:20260423T151624
CREATED:20241007T200532Z
LAST-MODIFIED:20251104T173905Z
UID:1938-1765389600-1765402200@hackettstownbid.com
SUMMARY:Hometown Holiday Jingle Ball-SOLD OUT
DESCRIPTION: Join us for the second annual Jingle Ball! This exciting event closes out our Hometown Holiday festivities. Don your finest holiday attire and join us at David’s Country Inn. \nDinner\, Dancing\, Entertainment and a Silent Auction will start your holidays right! Celebrate with your family\, friends or coworkers. Everyone is invited. Tickets are $65 pp or a table of 10 is $625 \nIF YOU HAVE RESERVED A TICKET\, PLEASE CALL 908-850-5004 OR EMAIL SOCIALMEDIA@HACKETTSTOWNBID.COM TO REMIT PAYMENT.
URL:https://hackettstownbid.com/event/hometown-holiday-jingle-ball/
LOCATION:David’s Country Inn
CATEGORIES:BID Happenings
ATTACH;FMTTYPE=image/png:https://hackettstownbid.com/wp-content/uploads/White-Red-Merry-Christmas-Message-Bell-Circle-Sticker-e1739302276766.png
END:VEVENT
BEGIN:VEVENT
DTSTART;VALUE=DATE:20251219
DTEND;VALUE=DATE:20251222
DTSTAMP:20260423T151624
CREATED:20251027T171312Z
LAST-MODIFIED:20251027T171339Z
UID:3116-1766102400-1766361599@hackettstownbid.com
SUMMARY:The Nutcracker
DESCRIPTION:The NYCYB PRESENTS\nExperience the magic of this timeless holiday classic and Step into a magical winter wonderland\nwith NJCYB’s Nutcracker Ballet.\nDecember 19th – 7:00pm\nDecember 20th – 12:00pm & 5:00pm\nDecember 21st – 2:00pm\nAt The Sitnick Theater at Centenary University\nwww.njcyb.org\nNew Jersey Civic Youth Ballet (NJCYB) is a nonprofit organization dedicated to inspiring\nand training young dancers through exceptional ballet education and performance\nopportunities. Committed to making the art of dance accessible to all\, NJCYB nurtures\ncreativity\, discipline\, and confidence while bringing high-quality professional\nproductions to the local community
URL:https://hackettstownbid.com/event/the-nutcracker/
LOCATION:NJ
CATEGORIES:BID Happenings,Community Calendar
ATTACH;FMTTYPE=application/pdf:https://hackettstownbid.com/wp-content/uploads/Nutcraker.pdf
END:VEVENT
BEGIN:VEVENT
DTSTART;TZID=America/New_York:20251231T200000
DTEND;TZID=America/New_York:20260101T020000
DTSTAMP:20260423T151624
CREATED:20231229T164312Z
LAST-MODIFIED:20251231T200149Z
UID:845-1767211200-1767232800@hackettstownbid.com
SUMMARY:New Years Eve
DESCRIPTION:Hackettstown’s Third Annual New Year’s Eve Blast Featuring An M&M’S® “Ball Drop” At Midnight  \nHackettstown\, NJ – The Town of Hackettstown\, the Hackettstown Police Department\, Mars Wrigley\, and the Hackettstown Business Improvement District are prepping for its third annual New Year’s Eve Blast with an M&M’S® ball drop at midnight. \nThis year’s festivities will take place in the heart of Downtown Hackettstown from 8 pm to 12:15 am\, and it will be a night to remember. \nCome experience Hackettstown’s extensive restaurant scene\, small businesses\, and support your local breweries and distillery this New Years. \nVISIT THESE BUSINESSES OPEN on NYE \n\nMarley’s Gotham Grille\nLiving Spirits Distillery-10 PM-1 AM-DJ Alyssa / $241 Reasons spinning beats\nMan Skirt Brewing  open 8-1130 Jukebox Trio live.  $10 cover after 8  pm\nCzig Meister Brewing Co.-3:00 PM – 11:30 PM Enjoy live music all night long with The Jungle Jazz Initiative\, plus special mystery guests. $15 cover charge begins at 7:00 PM⁠.\nShoppes at Luces\nDavila’s Pizza & Catering- Open until 10 pm\nKilhaney’s Pickle-Pickles on a stick and Pickle Trays available.\nSizzle BBQ-Open un until 1 am. Reservation suggested.\nThe G & G Big Closet\nMamas Cafe Baci -Open until 10 pm\nTracey’s Candy-Open 8-midnight\nJames on Main -Open until 10. Reservations required.\nOnce Upon a Theme-Doors open at 9 pm. Watch the ball drop from our 2nd floor window while warm and dancing with DJ Fitz. Call (908) 366-4233 to reserve. BYOB allowed.\nEuro Deli 2 Go\nMazur Cafe & Chocolate Lab\nThe Tucan\n\nEntertainment Stage (Main Street & High Street) \n\n\n\n\n11-year-old Giana Pichardo from Hackettstown will perform the National Anthem at 8 pm.\nJoe Racz and the Brawlstars (8 pm to 12:15 pm).\nHackettstown High School Cheerleading (9 pm to 11 pm)\nTiger Cheer Association (9 pm to 10 pm)\nKeep checking back for more!\n\nLive Stream\n\n\n\n\nIf you’re unable to attend the New Year’s Eve Blast\, the event will be streamed live from 8 p.m. to 12:15 a.m. on Facebook and YouTube. Be sure to follow “Town of Hackettstown” on Facebook and subscribe to the town’s official YouTube page to catch all the action. \nKids Zone (Grand Avenue between Main Street & Washington Street\, From 8 pm to 11 pm)  \n\n\n\n\nTake a picture in a giant Snow Globe\nCow Train ride\nStiltwalker (9 pm to 12 am)\nFace Painter\nGame Trailer\nSelfie Station\nHackettstown Bid selling NYE merchandise\nKeep checking back for more!Free Giveaways (While Supplies Last)\n\n\n\n\n\nWRNJ Radio\nHackettstown Stormwater Management\nMars Wrigley\nAtlantic Health\n\n\n\n\n\n\n\nROAD CLOSURES \, PARKING\, REST ROOMS AND MORE INFO HERE
URL:https://hackettstownbid.com/event/new-years-eve/
LOCATION:NJ
CATEGORIES:BID Happenings
ATTACH;FMTTYPE=image/png:https://hackettstownbid.com/wp-content/uploads/2026-NYE.png
END:VEVENT
END:VCALENDAR